BEGIN:VCALENDAR
VERSION:2.0
PRODID:-//Asociación Mexicana del Internet de las Cosas A.C. - ECPv6.15.15//NONSGML v1.0//EN
CALSCALE:GREGORIAN
METHOD:PUBLISH
X-WR-CALNAME:Asociación Mexicana del Internet de las Cosas A.C.
X-ORIGINAL-URL:https://www.asociacioniot.org
X-WR-CALDESC:Eventos para Asociación Mexicana del Internet de las Cosas A.C.
REFRESH-INTERVAL;VALUE=DURATION:PT1H
X-Robots-Tag:noindex
X-PUBLISHED-TTL:PT1H
BEGIN:VTIMEZONE
TZID:America/Mexico_City
BEGIN:STANDARD
TZOFFSETFROM:-0600
TZOFFSETTO:-0600
TZNAME:CST
DTSTART:20240101T000000
END:STANDARD
END:VTIMEZONE
BEGIN:VEVENT
DTSTART;VALUE=DATE:20251111
DTEND;VALUE=DATE:20251114
DTSTAMP:20260421T050851
CREATED:20251030T175145Z
LAST-MODIFIED:20251030T175841Z
UID:16787-1762819200-1763078399@www.asociacioniot.org
SUMMARY:Industrial Transformation México 2025
DESCRIPTION:
URL:https://www.asociacioniot.org/event/industrial-transformation-mexico-2025/
LOCATION:Centro Banamex\, Av. del Conscripto 311\, Lomas de Sotelo\, Hipódromo de las Américas\, Miguel Hidalgo\,\, Miguel Hidalgo\, Ciudad de México\, 11610\, Mexico
CATEGORIES:Evento,Exposición,Foro
ATTACH;FMTTYPE=image/jpeg:https://www.asociacioniot.org/wp-content/uploads/2025/10/BANNER-INVITACION-ASOCIACION-IOT-ITM-2025-1.jpg
END:VEVENT
END:VCALENDAR