BEGIN:VCALENDAR
VERSION:2.0
PRODID:-//Asociación Mexicana del Internet de las Cosas A.C. - ECPv6.15.15//NONSGML v1.0//EN
CALSCALE:GREGORIAN
METHOD:PUBLISH
X-WR-CALNAME:Asociación Mexicana del Internet de las Cosas A.C.
X-ORIGINAL-URL:https://www.asociacioniot.org
X-WR-CALDESC:Eventos para Asociación Mexicana del Internet de las Cosas A.C.
REFRESH-INTERVAL;VALUE=DURATION:PT1H
X-Robots-Tag:noindex
X-PUBLISHED-TTL:PT1H
BEGIN:VTIMEZONE
TZID:America/Mexico_City
BEGIN:STANDARD
TZOFFSETFROM:-0600
TZOFFSETTO:-0600
TZNAME:CST
DTSTART:20240101T000000
END:STANDARD
END:VTIMEZONE
BEGIN:VEVENT
DTSTART;TZID=America/Mexico_City:20251030T080000
DTEND;TZID=America/Mexico_City:20251030T170000
DTSTAMP:20260421T034807
CREATED:20251022T174052Z
LAST-MODIFIED:20251030T174337Z
UID:16784-1761811200-1761843600@www.asociacioniot.org
SUMMARY:HealthTech\, Mexico Tech Week 2025
DESCRIPTION:
URL:https://www.asociacioniot.org/event/healthtech-mexico-tech-week-2025/
LOCATION:Ey México. Plaza Antara\, Av. Ejército Nacional Mexicano 843-B\,\, Miguel Hidalgo\, Ciudad de México\, 11520\, Mexico
CATEGORIES:Evento,Foro
ATTACH;FMTTYPE=image/jpeg:https://www.asociacioniot.org/wp-content/uploads/2025/10/healthtechweek.jpeg
END:VEVENT
END:VCALENDAR