BEGIN:VCALENDAR
VERSION:2.0
PRODID:-//Asociación Mexicana del Internet de las Cosas A.C. - ECPv6.15.20//NONSGML v1.0//EN
CALSCALE:GREGORIAN
METHOD:PUBLISH
X-ORIGINAL-URL:https://www.asociacioniot.org
X-WR-CALDESC:Eventos para Asociación Mexicana del Internet de las Cosas A.C.
REFRESH-INTERVAL;VALUE=DURATION:PT1H
X-Robots-Tag:noindex
X-PUBLISHED-TTL:PT1H
BEGIN:VTIMEZONE
TZID:America/Mexico_City
BEGIN:STANDARD
TZOFFSETFROM:-0600
TZOFFSETTO:-0600
TZNAME:CST
DTSTART:20230101T000000
END:STANDARD
END:VTIMEZONE
BEGIN:VEVENT
DTSTART;TZID=America/Mexico_City:20240815T110000
DTEND;TZID=America/Mexico_City:20240815T160000
DTSTAMP:20260423T040557
CREATED:20240807T172300Z
LAST-MODIFIED:20240807T175246Z
UID:7947-1723719600-1723737600@www.asociacioniot.org
SUMMARY:IoT CiberSec LAC Forum 2024
DESCRIPTION:IoT CiberSec LAC Forum 2024\n15 y 16 de Agosto vía Zoom\nEste 15 y 16 de agosto prepárate y sumérgete en el mundo del Internet de las Cosas (IoT) en la edición 2024 del IoT CiberSec LAC Forum un importante evento en línea y gratuito. \nÚnete a nosotros\, actualízate y no te pierdas la oportunidad de establecer contactos con expertos y profesionales de las Cámaras Nacionales de la Industria de Telecom\, TI\, Electrónica\, Asociaciones y organizaciones Nacionales e Internacionales\, Academia y Empresa de América Latina y el Caribe. \nEn el Foro IoT CiberSec LAC 2024\, aprenderás sobre las últimas tendencias y las mejores prácticas en seguridad IoT\, descubrirás soluciones innovadoras para proteger sus dispositivos y datos\, y te conectarás con personas afines que comparten su pasión por la ciberseguridad\, IA y analítica de datos que giran en torno al IoT en la era digital. \n  \n¿QUIÉNES PUEDEN PARTICIPAR?\nSiendo esta actividad de carácter multidisciplinario la misma se encuentra dirigida a todas las personas que tengan interés (social\, legal\, técnicos o regulatorios) sobre la tecnología de Internet de las Cosas. \nLa participación es libre y gratuita \nNo te pierdas esta oportunidad única de mejorar tus conocimientos\, ampliar tu red de contactos y mantenerte a la vanguardia en el mundo en constante evolución del IoT. \nRESERVAR MI LUGAR AHORA \nConsulta la AGENDA\n¡Regístrate ahora y asegura tu lugar en el Foro IoT CiberSec LAC 2024!\nORGANIZADORES\nFederación de Latinoamérica y el Caribe de Internet y Tecnologías Digitales \nGrupo Internet de las Cosas y Ciberseguridad en América Latina y el Caribe \n 
URL:https://www.asociacioniot.org/event/iot-cibersec-lac-forum-2024/
LOCATION:Ciudad de México
CATEGORIES:Evento,Foro
ATTACH;FMTTYPE=image/jpeg:https://www.asociacioniot.org/wp-content/uploads/2024/08/IoT-CiberSec-LAC-Forum-2024.jpg
END:VEVENT
BEGIN:VEVENT
DTSTART;TZID=America/Mexico_City:20240822T080000
DTEND;TZID=America/Mexico_City:20240822T140000
DTSTAMP:20260423T040557
CREATED:20240801T024855Z
LAST-MODIFIED:20240806T201810Z
UID:7715-1724313600-1724335200@www.asociacioniot.org
SUMMARY:Foro de Innovación IoT - Morelos 2024
DESCRIPTION:¡No te pierdas el FORO INNOVACIÓN IoT MORELOS 2024!\n			\n						\n														MÁS INFORMACIÓN
URL:https://www.asociacioniot.org/event/foro-de-innovacion-iot-morelos-2024/
LOCATION:Facultad de Ciencias Químicas e Ingeniería de la Universidad Autónoma de Morelos (UAEM)\, Av. Universidad 1001\, Chamilpa\, Cuernavaca\, Morelos\, 62210\, Mexico
CATEGORIES:Evento,Foro
ATTACH;FMTTYPE=image/jpeg:https://www.asociacioniot.org/wp-content/uploads/2024/07/banner-iot-1-1.jpg
ORGANIZER;CN="Asociaci%C3%B3n Mexicana del Internet de las Cosas":MAILTO:atencion@asociacioniot.org
END:VEVENT
END:VCALENDAR